Package: S4Vectors Version: 0.44.0 Command: /Library/Frameworks/R.framework/Resources/bin/R CMD INSTALL S4Vectors StartedAt: 2025-02-03 15:15:03 -0500 (Mon, 03 Feb 2025) EndedAt: 2025-02-03 15:15:41 -0500 (Mon, 03 Feb 2025) EllapsedTime: 38.1 seconds RetCode: 0 Status: OK