Package: S4Vectors Version: 0.44.0 Command: /home/biocbuild/bbs-3.20-bioc/R/bin/R CMD check --install=check:S4Vectors.install-out.txt --library=/home/biocbuild/bbs-3.20-bioc/R/site-library --timings S4Vectors_0.44.0.tar.gz StartedAt: 2025-02-04 02:02:52 -0500 (Tue, 04 Feb 2025) EndedAt: 2025-02-04 02:04:47 -0500 (Tue, 04 Feb 2025) EllapsedTime: 115.1 seconds RetCode: 0 Status: WARNINGS CheckDir: S4Vectors.Rcheck Warnings: 2