Package: S4Vectors Version: 0.44.0 Command: /home/biocbuild/bbs-3.20-bioc/R/bin/R CMD INSTALL S4Vectors StartedAt: 2025-02-03 15:15:21 -0500 (Mon, 03 Feb 2025) EndedAt: 2025-02-03 15:15:54 -0500 (Mon, 03 Feb 2025) EllapsedTime: 33.4 seconds RetCode: 0 Status: OK