Package: S4Vectors Version: 0.44.0 Command: rm -rf S4Vectors.buildbin-libdir && mkdir S4Vectors.buildbin-libdir && F:\biocbuild\bbs-3.20-bioc\R\bin\R.exe CMD INSTALL --build --library=S4Vectors.buildbin-libdir S4Vectors_0.44.0.tar.gz StartedAt: 2025-02-04 09:25:13 -0500 (Tue, 04 Feb 2025) EndedAt: 2025-02-04 09:29:29 -0500 (Tue, 04 Feb 2025) EllapsedTime: 255.4 seconds RetCode: 0 Status: OK PackageFile: S4Vectors_0.44.0.zip PackageFileSize: 2.28 MiB