Package: S4Vectors Version: 0.44.0 Command: F:\biocbuild\bbs-3.20-bioc\R\bin\R.exe CMD check --no-multiarch --install=check:S4Vectors.install-out.txt --library=F:\biocbuild\bbs-3.20-bioc\R\library --no-vignettes --timings S4Vectors_0.44.0.tar.gz StartedAt: 2025-02-04 05:49:33 -0500 (Tue, 04 Feb 2025) EndedAt: 2025-02-04 05:51:45 -0500 (Tue, 04 Feb 2025) EllapsedTime: 131.3 seconds RetCode: 0 Status: WARNINGS CheckDir: S4Vectors.Rcheck Warnings: 3