Package: S4Vectors Version: 0.44.0 Command: /home/biocbuild/R/R/bin/R CMD build --keep-empty-dirs --no-resave-data S4Vectors StartedAt: 2025-02-04 02:32:01 -0000 (Tue, 04 Feb 2025) EndedAt: 2025-02-04 02:33:28 -0000 (Tue, 04 Feb 2025) EllapsedTime: 87.1 seconds RetCode: 0 Status: OK PackageFile: S4Vectors_0.44.0.tar.gz PackageFileSize: 1.04 MiB