Package: SANTA Version: 2.42.0 Command: /Library/Frameworks/R.framework/Resources/bin/R CMD check --install=check:SANTA.install-out.txt --library=/Library/Frameworks/R.framework/Resources/library --no-vignettes --timings SANTA_2.42.0.tar.gz StartedAt: 2025-02-04 09:27:22 -0500 (Tue, 04 Feb 2025) EndedAt: 2025-02-04 09:29:35 -0500 (Tue, 04 Feb 2025) EllapsedTime: 132.8 seconds RetCode: 0 Status: OK CheckDir: SANTA.Rcheck Warnings: 0