Package: SANTA Version: 2.42.0 Command: rm -rf SANTA.buildbin-libdir && mkdir SANTA.buildbin-libdir && F:\biocbuild\bbs-3.20-bioc\R\bin\R.exe CMD INSTALL --build --library=SANTA.buildbin-libdir SANTA_2.42.0.tar.gz StartedAt: 2025-02-04 09:25:38 -0500 (Tue, 04 Feb 2025) EndedAt: 2025-02-04 09:26:08 -0500 (Tue, 04 Feb 2025) EllapsedTime: 30.0 seconds RetCode: 0 Status: OK PackageFile: SANTA_2.42.0.zip PackageFileSize: 4.144 MiB