Package: SANTA Version: 2.42.0 Command: F:\biocbuild\bbs-3.20-bioc\R\bin\R.exe CMD INSTALL SANTA StartedAt: 2025-02-03 15:33:47 -0500 (Mon, 03 Feb 2025) EndedAt: 2025-02-03 15:34:11 -0500 (Mon, 03 Feb 2025) EllapsedTime: 24.5 seconds RetCode: 0 Status: OK