##############################################################################
##############################################################################
###
### Running command:
###
###   /home/biocbuild/R/R/bin/R CMD build --keep-empty-dirs --no-resave-data SANTA
###
##############################################################################
##############################################################################


* checking for file ‘SANTA/DESCRIPTION’ ... OK
* preparing ‘SANTA’:
* checking DESCRIPTION meta-information ... OK
* cleaning src
* installing the package to build vignettes
* creating vignettes ... OK
* cleaning src
* checking for LF line-endings in source and make files and shell scripts
* checking for empty or unneeded directories
* looking to see if a ‘data/datalist’ file should be added
* building ‘SANTA_2.42.0.tar.gz’