Package: SARC Version: 1.4.0 Command: /Library/Frameworks/R.framework/Resources/bin/R CMD build --keep-empty-dirs --no-resave-data SARC StartedAt: 2025-02-04 07:12:39 -0500 (Tue, 04 Feb 2025) EndedAt: 2025-02-04 07:15:10 -0500 (Tue, 04 Feb 2025) EllapsedTime: 151.0 seconds RetCode: 0 Status: OK PackageFile: SARC_1.4.0.tar.gz PackageFileSize: 3.51 MiB