Package: SARC Version: 1.4.0 Command: /Library/Frameworks/R.framework/Resources/bin/R CMD INSTALL SARC StartedAt: 2025-02-03 17:28:18 -0500 (Mon, 03 Feb 2025) EndedAt: 2025-02-03 17:29:05 -0500 (Mon, 03 Feb 2025) EllapsedTime: 47.2 seconds RetCode: 0 Status: OK