Package: SARC Version: 1.4.0 Command: /home/biocbuild/bbs-3.20-bioc/R/bin/R CMD INSTALL SARC StartedAt: 2025-02-03 15:55:26 -0500 (Mon, 03 Feb 2025) EndedAt: 2025-02-03 15:56:13 -0500 (Mon, 03 Feb 2025) EllapsedTime: 47.4 seconds RetCode: 0 Status: OK