Package: SBGNview Version: 1.20.0 Command: /Library/Frameworks/R.framework/Resources/bin/R CMD INSTALL SBGNview StartedAt: 2025-01-30 17:58:13 -0500 (Thu, 30 Jan 2025) EndedAt: 2025-01-30 17:58:57 -0500 (Thu, 30 Jan 2025) EllapsedTime: 44.3 seconds RetCode: 0 Status: OK