Package: SBGNview Version: 1.20.0 Command: rm -rf SBGNview.buildbin-libdir && mkdir SBGNview.buildbin-libdir && /Users/biocbuild/BBS/utils/build-universal.sh SBGNview_1.20.0.tar.gz /Library/Frameworks/R.framework/Resources/bin/R SBGNview.buildbin-libdir StartedAt: 2024-11-09 17:09:51 -0500 (Sat, 09 Nov 2024) EndedAt: 2024-11-09 17:10:06 -0500 (Sat, 09 Nov 2024) EllapsedTime: 15.2 seconds RetCode: 0 Status: OK PackageFile: SBGNview_1.20.0.tgz PackageFileSize: 1.822 MiB