Package: SBGNview Version: 1.20.0 Command: /Library/Frameworks/R.framework/Resources/bin/R CMD check --install=check:SBGNview.install-out.txt --library=/Library/Frameworks/R.framework/Resources/library --no-vignettes --timings SBGNview_1.20.0.tar.gz StartedAt: 2025-01-31 09:27:17 -0500 (Fri, 31 Jan 2025) EndedAt: 2025-01-31 09:36:38 -0500 (Fri, 31 Jan 2025) EllapsedTime: 560.9 seconds RetCode: 0 Status: OK CheckDir: SBGNview.Rcheck Warnings: 0