Package: SBGNview Version: 1.20.0 Command: rm -rf SBGNview.buildbin-libdir && mkdir SBGNview.buildbin-libdir && F:\biocbuild\bbs-3.20-bioc\R\bin\R.exe CMD INSTALL --build --library=SBGNview.buildbin-libdir SBGNview_1.20.0.tar.gz StartedAt: 2025-01-31 09:31:38 -0500 (Fri, 31 Jan 2025) EndedAt: 2025-01-31 09:32:48 -0500 (Fri, 31 Jan 2025) EllapsedTime: 70.8 seconds RetCode: 0 Status: OK PackageFile: SBGNview_1.20.0.zip PackageFileSize: 2.086 MiB