Package: SBGNview Version: 1.20.0 Command: chmod a+r SBGNview -R && F:\biocbuild\bbs-3.20-bioc\R\bin\R.exe CMD build --keep-empty-dirs --no-resave-data SBGNview StartedAt: 2025-01-30 21:35:32 -0500 (Thu, 30 Jan 2025) EndedAt: 2025-01-30 21:38:31 -0500 (Thu, 30 Jan 2025) EllapsedTime: 178.8 seconds RetCode: 0 Status: OK PackageFile: SBGNview_1.20.0.tar.gz PackageFileSize: 1.682 MiB