Package: SBGNview Version: 1.20.0 Command: /home/biocbuild/R/R/bin/R CMD check --install=check:SBGNview.install-out.txt --library=/home/biocbuild/R/R/site-library --no-vignettes --timings SBGNview_1.20.0.tar.gz StartedAt: 2025-01-31 10:02:53 -0000 (Fri, 31 Jan 2025) EndedAt: 2025-01-31 10:08:42 -0000 (Fri, 31 Jan 2025) EllapsedTime: 349.3 seconds RetCode: 0 Status: OK CheckDir: SBGNview.Rcheck Warnings: 0