Package: SC3 Version: 1.34.0 Command: /Library/Frameworks/R.framework/Resources/bin/R CMD INSTALL SC3 StartedAt: 2025-02-03 16:33:35 -0500 (Mon, 03 Feb 2025) EndedAt: 2025-02-03 16:34:23 -0500 (Mon, 03 Feb 2025) EllapsedTime: 47.8 seconds RetCode: 0 Status: OK