Package: SC3 Version: 1.34.0 Command: rm -rf SC3.buildbin-libdir && mkdir SC3.buildbin-libdir && F:\biocbuild\bbs-3.20-bioc\R\bin\R.exe CMD INSTALL --build --library=SC3.buildbin-libdir SC3_1.34.0.tar.gz StartedAt: 2025-02-04 09:25:54 -0500 (Tue, 04 Feb 2025) EndedAt: 2025-02-04 09:27:03 -0500 (Tue, 04 Feb 2025) EllapsedTime: 69.3 seconds RetCode: 0 Status: OK PackageFile: SC3_1.34.0.zip PackageFileSize: 3.718 MiB