Package: SC3
Version: 1.34.0
Command: F:\biocbuild\bbs-3.20-bioc\R\bin\R.exe CMD check --no-multiarch --install=check:SC3.install-out.txt --library=F:\biocbuild\bbs-3.20-bioc\R\library --no-vignettes --timings SC3_1.34.0.tar.gz
StartedAt: 2025-02-18 05:30:34 -0500 (Tue, 18 Feb 2025)
EndedAt: 2025-02-18 05:34:02 -0500 (Tue, 18 Feb 2025)
EllapsedTime: 207.9 seconds
RetCode: 0
Status: OK
CheckDir: SC3.Rcheck
Warnings: 0