Package: SC3 Version: 1.34.0 Command: /home/biocbuild/R/R/bin/R CMD INSTALL SC3 StartedAt: 2025-02-03 20:54:14 -0000 (Mon, 03 Feb 2025) EndedAt: 2025-02-03 20:55:09 -0000 (Mon, 03 Feb 2025) EllapsedTime: 54.8 seconds RetCode: 0 Status: OK