Package: SCANVIS Version: 1.20.0 Command: rm -rf SCANVIS.buildbin-libdir && mkdir SCANVIS.buildbin-libdir && /Users/biocbuild/BBS/utils/build-universal.sh SCANVIS_1.20.0.tar.gz /Library/Frameworks/R.framework/Resources/bin/R SCANVIS.buildbin-libdir StartedAt: 2025-02-05 17:38:30 -0500 (Wed, 05 Feb 2025) EndedAt: 2025-02-05 17:39:11 -0500 (Wed, 05 Feb 2025) EllapsedTime: 40.4 seconds RetCode: 0 Status: OK PackageFile: SCANVIS_1.20.0.tgz PackageFileSize: 429.8 KiB