Package: SCANVIS Version: 1.20.0 Command: /Library/Frameworks/R.framework/Resources/bin/R CMD build --keep-empty-dirs --no-resave-data SCANVIS StartedAt: 2025-02-04 07:18:29 -0500 (Tue, 04 Feb 2025) EndedAt: 2025-02-04 07:19:49 -0500 (Tue, 04 Feb 2025) EllapsedTime: 79.7 seconds RetCode: 0 Status: OK PackageFile: SCANVIS_1.20.0.tar.gz PackageFileSize: 469.9 KiB