Package: SCANVIS Version: 1.20.0 Command: rm -rf SCANVIS.buildbin-libdir && mkdir SCANVIS.buildbin-libdir && /Users/biocbuild/BBS/utils/build-universal.sh SCANVIS_1.20.0.tar.gz /Library/Frameworks/R.framework/Resources/bin/R SCANVIS.buildbin-libdir StartedAt: 2025-01-31 13:37:07 -0500 (Fri, 31 Jan 2025) EndedAt: 2025-01-31 13:38:15 -0500 (Fri, 31 Jan 2025) EllapsedTime: 68.1 seconds RetCode: 0 Status: OK PackageFile: SCANVIS_1.20.0.tgz PackageFileSize: 430.2 KiB