Package: SCANVIS Version: 1.20.0 Command: /home/biocbuild/bbs-3.20-bioc/R/bin/R CMD build --keep-empty-dirs --no-resave-data --md5 SCANVIS StartedAt: 2025-02-03 19:08:06 -0500 (Mon, 03 Feb 2025) EndedAt: 2025-02-03 19:09:00 -0500 (Mon, 03 Feb 2025) EllapsedTime: 54.1 seconds RetCode: 0 Status: OK PackageFile: SCANVIS_1.20.0.tar.gz PackageFileSize: 471.5 KiB