Package: SCANVIS Version: 1.20.0 Command: /home/biocbuild/bbs-3.20-bioc/R/bin/R CMD INSTALL SCANVIS StartedAt: 2025-02-03 15:30:21 -0500 (Mon, 03 Feb 2025) EndedAt: 2025-02-03 15:30:52 -0500 (Mon, 03 Feb 2025) EllapsedTime: 31.1 seconds RetCode: 0 Status: OK