Package: SCANVIS Version: 1.20.0 Command: rm -rf SCANVIS.buildbin-libdir && mkdir SCANVIS.buildbin-libdir && F:\biocbuild\bbs-3.20-bioc\R\bin\R.exe CMD INSTALL --build --library=SCANVIS.buildbin-libdir SCANVIS_1.20.0.tar.gz StartedAt: 2025-02-04 09:26:18 -0500 (Tue, 04 Feb 2025) EndedAt: 2025-02-04 09:27:00 -0500 (Tue, 04 Feb 2025) EllapsedTime: 42.8 seconds RetCode: 0 Status: OK PackageFile: SCANVIS_1.20.0.zip PackageFileSize: 431.8 KiB