Package: SCANVIS Version: 1.20.0 Command: chmod a+r SCANVIS -R && F:\biocbuild\bbs-3.20-bioc\R\bin\R.exe CMD build --keep-empty-dirs --no-resave-data SCANVIS StartedAt: 2025-02-03 21:53:08 -0500 (Mon, 03 Feb 2025) EndedAt: 2025-02-03 21:54:16 -0500 (Mon, 03 Feb 2025) EllapsedTime: 69.0 seconds RetCode: 0 Status: OK PackageFile: SCANVIS_1.20.0.tar.gz PackageFileSize: 470.9 KiB