Package: SCANVIS Version: 1.20.0 Command: /home/biocbuild/R/R/bin/R CMD build --keep-empty-dirs --no-resave-data SCANVIS StartedAt: 2025-02-04 02:35:53 -0000 (Tue, 04 Feb 2025) EndedAt: 2025-02-04 02:37:10 -0000 (Tue, 04 Feb 2025) EllapsedTime: 77.1 seconds RetCode: 0 Status: OK PackageFile: SCANVIS_1.20.0.tar.gz PackageFileSize: 464.9 KiB