Package: SCArray.sat Version: 1.6.0 Command: rm -rf SCArray.sat.buildbin-libdir && mkdir SCArray.sat.buildbin-libdir && /Users/biocbuild/BBS/utils/build-universal.sh SCArray.sat_1.6.0.tar.gz /Library/Frameworks/R.framework/Resources/bin/R SCArray.sat.buildbin-libdir StartedAt: 2025-02-05 17:38:34 -0500 (Wed, 05 Feb 2025) EndedAt: 2025-02-05 17:39:26 -0500 (Wed, 05 Feb 2025) EllapsedTime: 51.9 seconds RetCode: 0 Status: OK PackageFile: SCArray.sat_1.6.0.tgz PackageFileSize: 816.2 KiB