Package: SCArray.sat Version: 1.6.0 Command: /Library/Frameworks/R.framework/Resources/bin/R CMD build --keep-empty-dirs --no-resave-data SCArray.sat StartedAt: 2025-02-03 21:58:26 -0500 (Mon, 03 Feb 2025) EndedAt: 2025-02-03 22:01:27 -0500 (Mon, 03 Feb 2025) EllapsedTime: 180.6 seconds RetCode: 0 Status: OK PackageFile: SCArray.sat_1.6.0.tar.gz PackageFileSize: 693 KiB