Package: SCArray.sat Version: 1.6.0 Command: /Library/Frameworks/R.framework/Resources/bin/R CMD check --install=check:SCArray.sat.install-out.txt --library=/Library/Frameworks/R.framework/Resources/library --no-vignettes --timings SCArray.sat_1.6.0.tar.gz StartedAt: 2025-02-04 09:32:56 -0500 (Tue, 04 Feb 2025) EndedAt: 2025-02-04 09:43:17 -0500 (Tue, 04 Feb 2025) EllapsedTime: 621.3 seconds RetCode: 0 Status: OK CheckDir: SCArray.sat.Rcheck Warnings: 0