Package: SCArray.sat Version: 1.6.0 Command: /Library/Frameworks/R.framework/Resources/bin/R CMD INSTALL SCArray.sat StartedAt: 2025-02-03 16:36:27 -0500 (Mon, 03 Feb 2025) EndedAt: 2025-02-03 16:37:55 -0500 (Mon, 03 Feb 2025) EllapsedTime: 88.0 seconds RetCode: 0 Status: OK