Package: SCArray.sat Version: 1.6.0 Command: /home/biocbuild/bbs-3.20-bioc/R/bin/R CMD build --keep-empty-dirs --no-resave-data --md5 SCArray.sat StartedAt: 2025-02-03 19:08:14 -0500 (Mon, 03 Feb 2025) EndedAt: 2025-02-03 19:09:35 -0500 (Mon, 03 Feb 2025) EllapsedTime: 81.1 seconds RetCode: 0 Status: OK PackageFile: SCArray.sat_1.6.0.tar.gz PackageFileSize: 665.9 KiB