Package: SCArray.sat Version: 1.6.0 Command: /home/biocbuild/bbs-3.20-bioc/R/bin/R CMD INSTALL SCArray.sat StartedAt: 2025-02-03 16:00:56 -0500 (Mon, 03 Feb 2025) EndedAt: 2025-02-03 16:01:42 -0500 (Mon, 03 Feb 2025) EllapsedTime: 45.9 seconds RetCode: 0 Status: OK