Package: SCArray.sat Version: 1.6.0 Command: /home/biocbuild/R/R/bin/R CMD INSTALL SCArray.sat StartedAt: 2025-02-03 21:15:51 -0000 (Mon, 03 Feb 2025) EndedAt: 2025-02-03 21:16:42 -0000 (Mon, 03 Feb 2025) EllapsedTime: 51.4 seconds RetCode: 0 Status: OK