Package: SCArray
Version: 1.13.0
Command: chmod a+r SCArray -R && C:\Users\biocbuild\bbs-3.20-bioc\R\bin\R.exe CMD build --keep-empty-dirs --no-resave-data SCArray
StartedAt: 2024-07-15 20:35:28 -0400 (Mon, 15 Jul 2024)
EndedAt: 2024-07-15 20:37:21 -0400 (Mon, 15 Jul 2024)
EllapsedTime: 112.6 seconds
RetCode: 1
Status: ERROR
PackageFile: None
PackageFileSize: NA