Package: SCArray Version: 1.14.0 Command: /home/biocbuild/R/R/bin/R CMD build --keep-empty-dirs --no-resave-data SCArray StartedAt: 2025-02-04 02:36:04 -0000 (Tue, 04 Feb 2025) EndedAt: 2025-02-04 02:37:57 -0000 (Tue, 04 Feb 2025) EllapsedTime: 113.2 seconds RetCode: 0 Status: OK PackageFile: SCArray_1.14.0.tar.gz PackageFileSize: 1.282 MiB