Package: SCBN
Version: 1.24.0
Command: /home/biocbuild/R/R/bin/R CMD check --install=check:SCBN.install-out.txt --library=/home/biocbuild/R/R/site-library --no-vignettes --timings SCBN_1.24.0.tar.gz
StartedAt: 2024-11-20 12:04:29 -0000 (Wed, 20 Nov 2024)
EndedAt: 2024-11-20 12:07:05 -0000 (Wed, 20 Nov 2024)
EllapsedTime: 156.3 seconds
RetCode: 0
Status: OK
CheckDir: SCBN.Rcheck
Warnings: 0