Package: SCOPE
Version: 1.18.0
Maintainer: Rujin Wang
MaintainerEmail: rujin at email.unc.edu
git_url: https://git.bioconductor.org/packages/SCOPE
git_branch: RELEASE_3_20
git_last_commit: dbce5ad
git_last_commit_date: 2024-10-29 10:43:32 -0500 (Tue, 29 Oct 2024)