Package: SCOPE Version: 1.18.0 Command: /home/biocbuild/bbs-3.20-bioc/R/bin/R CMD INSTALL SCOPE StartedAt: 2025-02-03 15:32:22 -0500 (Mon, 03 Feb 2025) EndedAt: 2025-02-03 15:32:59 -0500 (Mon, 03 Feb 2025) EllapsedTime: 37.0 seconds RetCode: 0 Status: OK