Package: SCnorm Version: 1.28.0 Command: /Library/Frameworks/R.framework/Resources/bin/R CMD build --keep-empty-dirs --no-resave-data SCnorm StartedAt: 2025-01-30 22:39:08 -0500 (Thu, 30 Jan 2025) EndedAt: 2025-01-30 22:43:33 -0500 (Thu, 30 Jan 2025) EllapsedTime: 264.7 seconds RetCode: 0 Status: OK PackageFile: SCnorm_1.28.0.tar.gz PackageFileSize: 2.974 MiB