Package: SCnorm Version: 1.28.0 Command: /Library/Frameworks/R.framework/Resources/bin/R CMD check --install=check:SCnorm.install-out.txt --library=/Library/Frameworks/R.framework/Resources/library --no-vignettes --timings SCnorm_1.28.0.tar.gz StartedAt: 2025-01-31 09:43:25 -0500 (Fri, 31 Jan 2025) EndedAt: 2025-01-31 09:49:39 -0500 (Fri, 31 Jan 2025) EllapsedTime: 373.8 seconds RetCode: 0 Status: OK CheckDir: SCnorm.Rcheck Warnings: 0