Package: SCnorm Version: 1.28.0 Command: /Library/Frameworks/R.framework/Resources/bin/R CMD INSTALL SCnorm StartedAt: 2025-01-30 16:14:36 -0500 (Thu, 30 Jan 2025) EndedAt: 2025-01-30 16:15:34 -0500 (Thu, 30 Jan 2025) EllapsedTime: 58.6 seconds RetCode: 0 Status: OK