Package: SCnorm Version: 1.28.0 Command: /home/biocbuild/bbs-3.20-bioc/R/bin/R CMD build --keep-empty-dirs --no-resave-data --md5 SCnorm StartedAt: 2025-02-03 19:12:47 -0500 (Mon, 03 Feb 2025) EndedAt: 2025-02-03 19:14:22 -0500 (Mon, 03 Feb 2025) EllapsedTime: 95.1 seconds RetCode: 0 Status: OK PackageFile: SCnorm_1.28.0.tar.gz PackageFileSize: 2.976 MiB