Package: SCnorm Version: 1.28.0 Command: rm -rf SCnorm.buildbin-libdir && mkdir SCnorm.buildbin-libdir && F:\biocbuild\bbs-3.20-bioc\R\bin\R.exe CMD INSTALL --build --library=SCnorm.buildbin-libdir SCnorm_1.28.0.tar.gz StartedAt: 2025-02-04 09:28:03 -0500 (Tue, 04 Feb 2025) EndedAt: 2025-02-04 09:28:40 -0500 (Tue, 04 Feb 2025) EllapsedTime: 37.3 seconds RetCode: 0 Status: OK PackageFile: SCnorm_1.28.0.zip PackageFileSize: 3.047 MiB