Package: SCnorm Version: 1.28.0 Command: chmod a+r SCnorm -R && F:\biocbuild\bbs-3.20-bioc\R\bin\R.exe CMD build --keep-empty-dirs --no-resave-data SCnorm StartedAt: 2025-02-03 21:58:28 -0500 (Mon, 03 Feb 2025) EndedAt: 2025-02-03 22:03:19 -0500 (Mon, 03 Feb 2025) EllapsedTime: 291.0 seconds RetCode: 0 Status: OK PackageFile: SCnorm_1.28.0.tar.gz PackageFileSize: 2.975 MiB