Package: SCnorm Version: 1.28.0 Command: F:\biocbuild\bbs-3.20-bioc\R\bin\R.exe CMD INSTALL SCnorm StartedAt: 2025-01-30 16:27:16 -0500 (Thu, 30 Jan 2025) EndedAt: 2025-01-30 16:27:50 -0500 (Thu, 30 Jan 2025) EllapsedTime: 33.4 seconds RetCode: 0 Status: OK